Back to Multiple platform build/check report for BioC 3.7
ABCD[E]FGHIJKLMNOPQRSTUVWXYZ

Multiple platform build/check report for BioC 3.7

Results for ensemblVEP

This page was generated on 2018-10-15 09:58:00 -0400 (Mon, 15 Oct 2018).

Package 450/1561HostnameOS / ArchINSTALLBUILDCHECKBUILD BIN
ensemblVEP 1.22.1
Bioconductor Package Maintainer
Snapshot Date: 2018-10-14 16:46:11 -0400 (Sun, 14 Oct 2018)
URL: https://git.bioconductor.org/packages/ensemblVEP
Branch: RELEASE_3_7
Last Commit: 7ea50fe
Last Changed Date: 2018-10-10 12:47:41 -0400 (Wed, 10 Oct 2018)
malbec2 Linux (Ubuntu 16.04.1 LTS) / x86_64  OK  OK  OK UNNEEDED, same version exists in internal repository
tokay2 Windows Server 2012 R2 Standard / x64 ...NOT SUPPORTED...
merida2 OS X 10.11.6 El Capitan / x86_64  OK  OK  OK  OK UNNEEDED, same version exists in internal repository