Back to Multiple platform build/check report for BioC 3.7
A[B]CDEFGHIJKLMNOPQRSTUVWXYZ

Multiple platform build/check report for BioC 3.7

Results for biocGraph

This page was generated on 2018-07-20 09:57:51 -0400 (Fri, 20 Jul 2018).

Package 129/1560HostnameOS / ArchINSTALLBUILDCHECKBUILD BIN
biocGraph 1.42.0
Florian Hahne
Snapshot Date: 2018-07-19 16:46:05 -0400 (Thu, 19 Jul 2018)
URL: https://git.bioconductor.org/packages/biocGraph
Branch: RELEASE_3_7
Last Commit: 4f020f5
Last Changed Date: 2018-04-30 10:35:07 -0400 (Mon, 30 Apr 2018)
malbec2 Linux (Ubuntu 16.04.1 LTS) / x86_64  OK  OK  OK UNNEEDED, same version exists in internal repository
tokay2 Windows Server 2012 R2 Standard / x64  OK  OK  OK  OK UNNEEDED, same version exists in internal repository
merida2 OS X 10.11.6 El Capitan / x86_64  OK  OK  OK  OK UNNEEDED, same version exists in internal repository