Back to Multiple platform build/check report for BioC 3.7
ABCDEFGHIJKLMNOPQ[R]STUVWXYZ

Multiple platform build/check report for BioC 3.7

Results for RBGL

This page was generated on 2018-08-19 10:34:21 -0400 (Sun, 19 Aug 2018).

Package 1184/1559HostnameOS / ArchINSTALLBUILDCHECKBUILD BIN
RBGL 1.56.0
Bioconductor Package Maintainer
Snapshot Date: 2018-08-18 16:45:10 -0400 (Sat, 18 Aug 2018)
URL: https://git.bioconductor.org/packages/RBGL
Branch: RELEASE_3_7
Last Commit: a1fa9d8
Last Changed Date: 2018-04-30 10:34:58 -0400 (Mon, 30 Apr 2018)
malbec2 Linux (Ubuntu 16.04.1 LTS) / x86_64  OK  OK  OK UNNEEDED, same version exists in internal repository
tokay2 Windows Server 2012 R2 Standard / x64  OK  OK  OK  OK UNNEEDED, same version exists in internal repository
merida2 OS X 10.11.6 El Capitan / x86_64  OK  OK  OK  OK UNNEEDED, same version exists in internal repository