Back to Multiple platform build/check report for BioC 3.7
AB[C]DEFGHIJKLMNOPQRSTUVWXYZ

Multiple platform build/check report for BioC 3.7

Results for ChIPQC

This page was generated on 2018-07-18 09:57:24 -0400 (Wed, 18 Jul 2018).

Package 232/1560HostnameOS / ArchINSTALLBUILDCHECKBUILD BIN
ChIPQC 1.16.0
Tom Carroll , Rory Stark
Snapshot Date: 2018-07-17 16:46:10 -0400 (Tue, 17 Jul 2018)
URL: https://git.bioconductor.org/packages/ChIPQC
Branch: RELEASE_3_7
Last Commit: 6a31009
Last Changed Date: 2018-04-30 10:35:32 -0400 (Mon, 30 Apr 2018)
malbec2 Linux (Ubuntu 16.04.1 LTS) / x86_64  OK  OK  OK UNNEEDED, same version exists in internal repository
tokay2 Windows Server 2012 R2 Standard / x64  OK  OK  OK  OK UNNEEDED, same version exists in internal repository
merida2 OS X 10.11.6 El Capitan / x86_64  OK  OK  OK  OK UNNEEDED, same version exists in internal repository