Back to Multiple platform build/check report for BioC 3.7
[A]BCDEFGHIJKLMNOPQRSTUVWXYZ

Multiple platform build/check report for BioC 3.7

Results for AnnotationHubData

This page was generated on 2018-09-23 10:31:19 -0400 (Sun, 23 Sep 2018).

Package 56/1560HostnameOS / ArchINSTALLBUILDCHECKBUILD BIN
AnnotationHubData 1.10.2
Bioconductor Package Maintainer
Snapshot Date: 2018-09-22 16:45:11 -0400 (Sat, 22 Sep 2018)
URL: https://git.bioconductor.org/packages/AnnotationHubData
Branch: RELEASE_3_7
Last Commit: a5bc28e
Last Changed Date: 2018-07-31 09:22:19 -0400 (Tue, 31 Jul 2018)
malbec2 Linux (Ubuntu 16.04.1 LTS) / x86_64  OK  OK  OK UNNEEDED, same version exists in internal repository
tokay2 Windows Server 2012 R2 Standard / x64  OK  OK  OK  OK UNNEEDED, same version exists in internal repository
merida2 OS X 10.11.6 El Capitan / x86_64  OK  OK  OK  OK UNNEEDED, same version exists in internal repository