Back to Multiple platform build/check report for BioC 3.6 experimental data

Multiple platform build/check report for BioC 3.6 experimental data

Results for ALL

This page was generated on 2018-02-20 12:59:27 -0500 (Tue, 20 Feb 2018).

Package 10/326HostnameOS / ArchINSTALLBUILDCHECKBUILD BIN
ALL 1.20.0
Robert Gentleman
Snapshot Date: 2018-02-20 07:35:06 -0500 (Tue, 20 Feb 2018)
URL: https://git.bioconductor.org/packages/ALL
Branch: RELEASE_3_6
Last Commit: 57687a6
Last Changed Date: 2017-10-30 11:58:21 -0500 (Mon, 30 Oct 2017)
malbec1 Linux (Ubuntu 16.04.1 LTS) / x86_64  OK  OK  OK UNNEEDED, same version exists in internal repository