Back to Multiple platform build/check report for BioC 3.6
ABCDE[F]GHIJKLMNOPQRSTUVWXYZ

Multiple platform build/check report for BioC 3.6

Results for flowViz

This page was generated on 2018-01-22 14:26:56 -0500 (Mon, 22 Jan 2018).

Package 498/1473HostnameOS / ArchINSTALLBUILDCHECKBUILD BIN
flowViz 1.42.0
Mike Jiang
Snapshot Date: 2018-01-21 17:00:19 -0500 (Sun, 21 Jan 2018)
URL: https://git.bioconductor.org/packages/flowViz
Branch: RELEASE_3_6
Last Commit: dc6bb65
Last Changed Date: 2017-10-30 12:39:18 -0500 (Mon, 30 Oct 2017)
malbec1 Linux (Ubuntu 16.04.1 LTS) / x86_64  OK  OK  OK UNNEEDED, same version exists in internal repository
tokay1 Windows Server 2012 R2 Standard / x64  OK  OK  WARNINGS  OK UNNEEDED, same version exists in internal repository
veracruz1 OS X 10.11.6 El Capitan / x86_64  OK  OK  OK  OK UNNEEDED, same version exists in internal repository