Back to Multiple platform build/check report for BioC 3.6
ABCDE[F]GHIJKLMNOPQRSTUVWXYZ

Multiple platform build/check report for BioC 3.6

Results for flowClust

This page was generated on 2017-11-19 14:20:35 -0500 (Sun, 19 Nov 2017).

Package 476/1473HostnameOS / ArchINSTALLBUILDCHECKBUILD BIN
flowClust 3.16.0
Greg Finak , Mike Jiang
Snapshot Date: 2017-11-18 17:00:30 -0500 (Sat, 18 Nov 2017)
URL: https://git.bioconductor.org/packages/flowClust
Branch: RELEASE_3_6
Last Commit: d5d26ee
Last Changed Date: 2017-10-30 12:39:22 -0500 (Mon, 30 Oct 2017)
malbec1 Linux (Ubuntu 16.04.1 LTS) / x86_64  OK  OK  OK UNNEEDED, same version exists in internal repository
tokay1 Windows Server 2012 R2 Standard / x64  OK  OK  OK  OK UNNEEDED, same version exists in internal repository
veracruz1 OS X 10.11.6 El Capitan / x86_64  OK  OK  OK  OK UNNEEDED, same version exists in internal repository