Back to Multiple platform build/check report for BioC 3.6
AB[C]DEFGHIJKLMNOPQRSTUVWXYZ

Multiple platform build/check report for BioC 3.6

Results for clst

This page was generated on 2017-12-14 14:24:49 -0500 (Thu, 14 Dec 2017).

Package 245/1472HostnameOS / ArchINSTALLBUILDCHECKBUILD BIN
clst 1.26.0
Noah Hoffman
Snapshot Date: 2017-12-13 17:00:20 -0500 (Wed, 13 Dec 2017)
URL: https://git.bioconductor.org/packages/clst
Branch: RELEASE_3_6
Last Commit: b56f42f
Last Changed Date: 2017-10-30 12:39:32 -0500 (Mon, 30 Oct 2017)
malbec1 Linux (Ubuntu 16.04.1 LTS) / x86_64  OK  OK  WARNINGS UNNEEDED, same version exists in internal repository
tokay1 Windows Server 2012 R2 Standard / x64  OK  OK  WARNINGS  OK UNNEEDED, same version exists in internal repository
veracruz1 OS X 10.11.6 El Capitan / x86_64  OK  OK  WARNINGS  OK UNNEEDED, same version exists in internal repository