Back to Multiple platform build/check report for BioC 3.6
A[B]CDEFGHIJKLMNOPQRSTUVWXYZ

Multiple platform build/check report for BioC 3.6

Results for biomformat

This page was generated on 2018-02-20 14:28:24 -0500 (Tue, 20 Feb 2018).

Package 135/1473HostnameOS / ArchINSTALLBUILDCHECKBUILD BIN
biomformat 1.6.0
Paul J. McMurdie
Snapshot Date: 2018-02-19 17:00:21 -0500 (Mon, 19 Feb 2018)
URL: https://git.bioconductor.org/packages/biomformat
Branch: RELEASE_3_6
Last Commit: 61fb8c7
Last Changed Date: 2017-10-30 12:41:10 -0500 (Mon, 30 Oct 2017)
malbec1 Linux (Ubuntu 16.04.1 LTS) / x86_64  OK  OK  OK UNNEEDED, same version exists in internal repository
tokay1 Windows Server 2012 R2 Standard / x64  OK  OK  WARNINGS  OK UNNEEDED, same version exists in internal repository
veracruz1 OS X 10.11.6 El Capitan / x86_64  OK  OK  OK  OK UNNEEDED, same version exists in internal repository