Back to Multiple platform build/check report for BioC 3.6
ABCDEF[G]HIJKLMNOPQRSTUVWXYZ

Multiple platform build/check report for BioC 3.6

Results for GeneAnswers

This page was generated on 2017-11-23 14:21:12 -0500 (Thu, 23 Nov 2017).

Package 530/1473HostnameOS / ArchINSTALLBUILDCHECKBUILD BIN
GeneAnswers 2.20.0
Lei Huang and Gang Feng
Snapshot Date: 2017-11-22 17:00:28 -0500 (Wed, 22 Nov 2017)
URL: https://git.bioconductor.org/packages/GeneAnswers
Branch: RELEASE_3_6
Last Commit: fd10dcd
Last Changed Date: 2017-10-30 12:39:27 -0500 (Mon, 30 Oct 2017)
malbec1 Linux (Ubuntu 16.04.1 LTS) / x86_64  OK  OK  WARNINGS UNNEEDED, same version exists in internal repository
tokay1 Windows Server 2012 R2 Standard / x64  OK  OK  WARNINGS  OK UNNEEDED, same version exists in internal repository
veracruz1 OS X 10.11.6 El Capitan / x86_64  OK  OK  WARNINGS  OK UNNEEDED, same version exists in internal repository