Back to Multiple platform build/check report for BioC 3.6
A[B]CDEFGHIJKLMNOPQRSTUVWXYZ

Multiple platform build/check report for BioC 3.6

Results for Biostrings

This page was generated on 2018-04-12 13:04:41 -0400 (Thu, 12 Apr 2018).

Package 142/1472HostnameOS / ArchINSTALLBUILDCHECKBUILD BIN
Biostrings 2.46.0
H. Pag├Ęs
Snapshot Date: 2018-04-11 16:45:18 -0400 (Wed, 11 Apr 2018)
URL: https://git.bioconductor.org/packages/Biostrings
Branch: RELEASE_3_6
Last Commit: 3bf6978
Last Changed Date: 2017-10-30 12:39:00 -0400 (Mon, 30 Oct 2017)
malbec1 Linux (Ubuntu 16.04.1 LTS) / x86_64  OK  OK  WARNINGS UNNEEDED, same version exists in internal repository
tokay1 Windows Server 2012 R2 Standard / x64  OK  OK  WARNINGS  OK UNNEEDED, same version exists in internal repository
veracruz1 OS X 10.11.6 El Capitan / x86_64  OK  OK  WARNINGS  OK UNNEEDED, same version exists in internal repository